BEGIN:VCALENDAR
VERSION:2.0
PRODID:-//Salix-eV - ECPv6.15.20//NONSGML v1.0//EN
CALSCALE:GREGORIAN
METHOD:PUBLISH
X-ORIGINAL-URL:https://salix-verein.de
X-WR-CALDESC:Veranstaltungen für Salix-eV
REFRESH-INTERVAL;VALUE=DURATION:PT1H
X-Robots-Tag:noindex
X-PUBLISHED-TTL:PT1H
BEGIN:VTIMEZONE
TZID:UTC
BEGIN:STANDARD
TZOFFSETFROM:+0000
TZOFFSETTO:+0000
TZNAME:UTC
DTSTART:20240101T000000
END:STANDARD
END:VTIMEZONE
BEGIN:VEVENT
DTSTART;VALUE=DATE:20250822
DTEND;VALUE=DATE:20250827
DTSTAMP:20260424T035543
CREATED:20250411T160823Z
LAST-MODIFIED:20250411T160823Z
UID:262-1755820800-1756252799@salix-verein.de
SUMMARY:"Regionale Wolle – Artenschutz fördern & nachhaltig konsumieren"
DESCRIPTION:Bildungsurlaub “Regionale Wolle – Artenschutz fördern & nachhaltig konsumieren” (anerkannt von der AEWB Niedersachsen)
URL:https://salix-verein.de/event/regionale-wolle-artenschutz-foerdern-nachhaltig-konsumieren/
LOCATION:Weidenhof\, Rieper Moor 2\, Schneverdingen - Lünzen\, Niedersachsen\, 29640\, Germany
CATEGORIES:Termine
END:VEVENT
BEGIN:VEVENT
DTSTART;TZID=UTC:20250830T140000
DTEND;TZID=UTC:20250830T170000
DTSTAMP:20260424T035543
CREATED:20250411T155134Z
LAST-MODIFIED:20250816T055333Z
UID:252-1756562400-1756573200@salix-verein.de
SUMMARY:SALIX - Kaffee
DESCRIPTION:Ihr seid alle herzlich eingeladen! Der Salix e.V. beginnt seine monatliche Aktion „SALIX – Kaffee“. \nGerade in Krisenzeiten ist Gemeinschaft wichtig. Gerade in Zeiten von Desinformation ist es wichtig\, informiert zu bleiben. In Zeiten von großen politischen Umwälzungen ist es wichtig\, zusammen zu halten und sich gegenseitig zu stärken. \nSalix e.V. will diesen Raum für Gemeinschaft schaffen. Dazu bieten wir 1 x im Monat eine lockere Runde an. 14 Uhr geht es los – der Ablauf wird jedes Mal wie folgt sein: \nauf dem Plan steht jeweils 1 Thema pro Treffen\, Kurzvortrag von Anke\, Schäferin des WeidenHofes über Hintergründe in: Landwirtschaft\, regionales Wirtschaften\, Gemeinwohl Ökonomie\, Agrarökologie\, Naturschutzfragen\, Tierhaltung\, regionale Produktion\, Verbraucher:innenfragen\, etc. und natürlich dürft ihr euch auch Themen wünschen\, die wir dann nach und nach angehen. \nNach ca. 30 min. Input wollen wir die Runde öffnen und Ihr dürft alle eure Fragen stellen\, euch austauschen\, Ideen reinbringen oder euch einfach nur inspirieren lassen. \nBei gutem Wetter (also kein Regen) wollen wir uns immer draußen treffen auf der Hoffestwiese des WeidenHofes. Ein kleines gemeinschaftsstärkendes Feuerritual wird auf Wunsch dabei sein und der Nachmittag darf gemütlich ausklingen mit Austausch\, Begegnung und hoffentlich für alle ein gutes Gefühl zum mit-nach-Hause-nehmen. \nWenn du dabei sein willst – komm zum Erdenhüter! \nUnd bring gerne ganz viele mit – Freunde\, Nachbarn\, Verwandte – Formen des regionalen Wirtschaftens\, die funktionieren\, gibt es bereits – es ist ganz einfach\, da mitzumachen. Wir stellen euch Ideen\, Konzepte und vorhandene Möglichkeiten vor! \nWir freuen uns sehr! Kommt gerne zahlreich. \nPS für eine Spende für Getränke und Knabberei wird gebeten\, Eintritt kostenlos.
URL:https://salix-verein.de/event/erdenhueter-nachmittag-6/
LOCATION:Weidenhof\, Rieper Moor 2\, Schneverdingen - Lünzen\, Niedersachsen\, 29640\, Germany
CATEGORIES:Termine
END:VEVENT
END:VCALENDAR