BEGIN:VCALENDAR
VERSION:2.0
PRODID:-//Salix-eV - ECPv6.15.20//NONSGML v1.0//EN
CALSCALE:GREGORIAN
METHOD:PUBLISH
X-ORIGINAL-URL:https://salix-verein.de
X-WR-CALDESC:Veranstaltungen für Salix-eV
REFRESH-INTERVAL;VALUE=DURATION:PT1H
X-Robots-Tag:noindex
X-PUBLISHED-TTL:PT1H
BEGIN:VTIMEZONE
TZID:UTC
BEGIN:STANDARD
TZOFFSETFROM:+0000
TZOFFSETTO:+0000
TZNAME:UTC
DTSTART:20250101T000000
END:STANDARD
END:VTIMEZONE
BEGIN:VEVENT
DTSTART;TZID=UTC:20260328T150000
DTEND;TZID=UTC:20260328T170000
DTSTAMP:20260423T190156
CREATED:20260206T140511Z
LAST-MODIFIED:20260224T175239Z
UID:305-1774710000-1774717200@salix-verein.de
SUMMARY:SALIX - Café im März: "Wundermaterial - wie kommt die Wolle vom Schaf zum Pullover"
DESCRIPTION:Ihr seid herzlich eingeladen!\nDer Salix e.V. startet seine monatliche Begegnungsrunde „SALIX – Café“ in der SALIX-Küche auf dem Weidenhof. \nGerade in bewegten Zeiten sind Gemeinschaft\, Austausch und gute Information wichtiger denn je. Der Salix e.V. möchte dafür einen offenen Raum schaffen – zum Zusammenkommen\, Zuhören oder zum gemeinsamen Gestalten. \nEinmal im Monat treffen wir uns ab 15 Uhr zu einer lockeren Runde. \nBei gutem Wetter treffen wir uns draußen auf der Hoffestwiese des WeidenHofes. \nKomm zum SALIX – Café – und bring gern Freund:innen\, Nachbar:innen oder Familie mit.\nWir freuen uns auf euch! \nEintritt frei. Spenden für Getränke und Knabbereien willkommen \nDieses Treffen am 28.03.2026\n\n\n\n\nWundermaterial – wie kommt die Wolle vom Schaf zum Pullover? \nWolle ist ein wertvoller Rohstoff\, der in Vergessenheit geraten ist – zu unrecht!\nWolle hat viele Eigenschaften\, die sie als Material für Kleidung\, aber auch für Heimtextilien und anderes interessant machen. \n Wolle ist:\nIsolierend\nWasseraufnehmend\nAntibakteriell\nGeruchsneutral\nElastisch\nSchwerentflammbar\nBiologisch abbaubar. \nWer mehr darüber erfahren möchte\, kann an diesem Nachmittag zum Weidenhof kommen. Darüber hinaus möchte ich den Weg der handwerklichen Wollverarbeitung nachvollziehen. Wir wollen auch erste Versuche zum Herstellen eines Wollfadens mit einer Handspindel wagen. \n\n\n\n\n 
URL:https://salix-verein.de/event/salix-cafe-im-maerz/
LOCATION:Weidenhof\, Rieper Moor 2\, Schneverdingen - Lünzen\, Niedersachsen\, 29640\, Germany
END:VEVENT
END:VCALENDAR