BEGIN:VCALENDAR
VERSION:2.0
PRODID:-//Salix-eV - ECPv6.15.20//NONSGML v1.0//EN
CALSCALE:GREGORIAN
METHOD:PUBLISH
X-WR-CALNAME:Salix-eV
X-ORIGINAL-URL:https://salix-verein.de
X-WR-CALDESC:Veranstaltungen für Salix-eV
REFRESH-INTERVAL;VALUE=DURATION:PT1H
X-Robots-Tag:noindex
X-PUBLISHED-TTL:PT1H
BEGIN:VTIMEZONE
TZID:Europe/Berlin
BEGIN:DAYLIGHT
TZOFFSETFROM:+0100
TZOFFSETTO:+0200
TZNAME:CEST
DTSTART:20250330T010000
END:DAYLIGHT
BEGIN:STANDARD
TZOFFSETFROM:+0200
TZOFFSETTO:+0100
TZNAME:CET
DTSTART:20251026T010000
END:STANDARD
BEGIN:DAYLIGHT
TZOFFSETFROM:+0100
TZOFFSETTO:+0200
TZNAME:CEST
DTSTART:20260329T010000
END:DAYLIGHT
BEGIN:STANDARD
TZOFFSETFROM:+0200
TZOFFSETTO:+0100
TZNAME:CET
DTSTART:20261025T010000
END:STANDARD
BEGIN:DAYLIGHT
TZOFFSETFROM:+0100
TZOFFSETTO:+0200
TZNAME:CEST
DTSTART:20270328T010000
END:DAYLIGHT
BEGIN:STANDARD
TZOFFSETFROM:+0200
TZOFFSETTO:+0100
TZNAME:CET
DTSTART:20271031T010000
END:STANDARD
END:VTIMEZONE
BEGIN:VEVENT
DTSTART;TZID=Europe/Berlin:20260228T150000
DTEND;TZID=Europe/Berlin:20260228T170000
DTSTAMP:20260423T185749
CREATED:20260130T104536Z
LAST-MODIFIED:20260206T135418Z
UID:279-1772290800-1772298000@salix-verein.de
SUMMARY:SALIX - Café im Februar: "Heilmantras für Mutter Erde aus aller Welt" mit Daniela
DESCRIPTION:Ihr seid herzlich eingeladen!\nDer Salix e.V. startet seine monatliche Begegnungsrunde „SALIX – Café“ in der SALIX-Küche auf dem Weidenhof. \nGerade in bewegten Zeiten sind Gemeinschaft\, Austausch und gute Information wichtiger denn je. Der Salix e.V. möchte dafür einen offenen Raum schaffen – zum Zusammenkommen\, Zuhören oder zum gemeinsamen Gestalten. \nEinmal im Monat treffen wir uns ab 15 Uhr zu einer lockeren Runde. \nBei gutem Wetter treffen wir uns draußen auf der Hoffestwiese des WeidenHofes. \nKomm zum SALIX – Café – und bring gern Freund:innen\, Nachbar:innen oder Familie mit.\nWir freuen uns auf euch! \nEintritt frei. Spenden für Getränke und Knabbereien willkommen \nDieses Treffen am 28.02.2026:\nHEILMANTRAS\n\n\n\nfür Mutter Erde aus aller Welt\nMantras sind Schutzklänge\, die sich aus einzelnen Silben zusammensetzen und ihren Ursprung im indischen Kulturraum haben.\nDas Schöne ist\, dass sie sehr schnell und einfach zu erlernen sind. Jeder kann mitmachen.\nMusikalische Vorerfahrungen sind nicht erforderlich.\nIm Rahmen des Salix-Cafés singt Dani mit euch Mantras aus verschiedenen Ländern und in verschiedenen Sprachen.\nIhnen allen gemein ist\, dass sie den Planeten\, auf dem wir leben in den Fokus nehmen. Bringt gerne Instrumente oder eigene Mantras mit.
URL:https://salix-verein.de/event/salix-kaffee/
LOCATION:Weidenhof\, Rieper Moor 2\, Schneverdingen - Lünzen\, Niedersachsen\, 29640\, Germany
CATEGORIES:Termine
END:VEVENT
END:VCALENDAR