BEGIN:VCALENDAR
VERSION:2.0
PRODID:-//Salix-eV - ECPv6.15.20//NONSGML v1.0//EN
CALSCALE:GREGORIAN
METHOD:PUBLISH
X-ORIGINAL-URL:https://salix-verein.de
X-WR-CALDESC:Veranstaltungen für Salix-eV
REFRESH-INTERVAL;VALUE=DURATION:PT1H
X-Robots-Tag:noindex
X-PUBLISHED-TTL:PT1H
BEGIN:VTIMEZONE
TZID:UTC
BEGIN:STANDARD
TZOFFSETFROM:+0000
TZOFFSETTO:+0000
TZNAME:UTC
DTSTART:20240101T000000
END:STANDARD
END:VTIMEZONE
BEGIN:VEVENT
DTSTART;TZID=UTC:20250920T110000
DTEND;TZID=UTC:20250920T170000
DTSTAMP:20260424T035626
CREATED:20250411T160953Z
LAST-MODIFIED:20250411T160953Z
UID:264-1758366000-1758387600@salix-verein.de
SUMMARY:Kinderfest im Fuchswald von 11-17 Uhr Mitmachaktion
DESCRIPTION:Kinderfest im Fuchswald von 11-17 Uhr Mitmachaktion
URL:https://salix-verein.de/event/kinderfest-im-fuchswald-von-11-17-uhr-mitmachaktion/
LOCATION:Niedersachsen
END:VEVENT
END:VCALENDAR