BEGIN:VCALENDAR
VERSION:2.0
PRODID:-//Salix-eV - ECPv6.15.20//NONSGML v1.0//EN
CALSCALE:GREGORIAN
METHOD:PUBLISH
X-WR-CALNAME:Salix-eV
X-ORIGINAL-URL:https://salix-verein.de
X-WR-CALDESC:Veranstaltungen für Salix-eV
REFRESH-INTERVAL;VALUE=DURATION:PT1H
X-Robots-Tag:noindex
X-PUBLISHED-TTL:PT1H
BEGIN:VTIMEZONE
TZID:UTC
BEGIN:STANDARD
TZOFFSETFROM:+0000
TZOFFSETTO:+0000
TZNAME:UTC
DTSTART:20240101T000000
END:STANDARD
END:VTIMEZONE
BEGIN:VEVENT
DTSTART;TZID=UTC:20250614T140000
DTEND;TZID=UTC:20250614T170000
DTSTAMP:20260424T083656
CREATED:20250411T160358Z
LAST-MODIFIED:20250411T160358Z
UID:260-1749909600-1749920400@salix-verein.de
SUMMARY:Tag des Offenen Hofes auf dem WeidenHof mit Salix Info-Stand
DESCRIPTION:Tag des Offenen Hofes auf dem WeidenHof mit Salix Info-Stand \nHier geht es zum Weidenhof
URL:https://salix-verein.de/event/tag-des-offenen-hofes-auf-dem-weidenhof-mit-salix-info-stand/
LOCATION:Weidenhof\, Rieper Moor 2\, Schneverdingen - Lünzen\, Niedersachsen\, 29640\, Germany
END:VEVENT
END:VCALENDAR