BEGIN:VCALENDAR
VERSION:2.0
PRODID:-//Salix-eV - ECPv6.15.20//NONSGML v1.0//EN
CALSCALE:GREGORIAN
METHOD:PUBLISH
X-ORIGINAL-URL:https://salix-verein.de
X-WR-CALDESC:Veranstaltungen für Salix-eV
REFRESH-INTERVAL;VALUE=DURATION:PT1H
X-Robots-Tag:noindex
X-PUBLISHED-TTL:PT1H
BEGIN:VTIMEZONE
TZID:UTC
BEGIN:STANDARD
TZOFFSETFROM:+0000
TZOFFSETTO:+0000
TZNAME:UTC
DTSTART:20240101T000000
END:STANDARD
END:VTIMEZONE
BEGIN:VEVENT
DTSTART;TZID=UTC:20250515T150000
DTEND;TZID=UTC:20250515T190000
DTSTAMP:20260424T104452
CREATED:20250411T160127Z
LAST-MODIFIED:20250411T160127Z
UID:258-1747321200-1747335600@salix-verein.de
SUMMARY:BNE Netzwerktreffen
DESCRIPTION:BNE Netzwerktreffen \nHier geht es zur Veranstaltung
URL:https://salix-verein.de/event/bne-netzwerktreffen/
LOCATION:Niedersachsen
CATEGORIES:Termine
END:VEVENT
END:VCALENDAR